BEGIN:VCALENDAR
VERSION:2.0
PRODID:-//Zespół Szkół Nr 3 im. Legionistów Miasta Pabianic - ECPv6.15.20//NONSGML v1.0//EN
CALSCALE:GREGORIAN
METHOD:PUBLISH
X-WR-CALNAME:Zespół Szkół Nr 3 im. Legionistów Miasta Pabianic
X-ORIGINAL-URL:https://zs3pabianice.edu.pl
X-WR-CALDESC:Wydarzenia dla Zespół Szkół Nr 3 im. Legionistów Miasta Pabianic
REFRESH-INTERVAL;VALUE=DURATION:PT1H
X-Robots-Tag:noindex
X-PUBLISHED-TTL:PT1H
BEGIN:VTIMEZONE
TZID:Europe/Warsaw
BEGIN:DAYLIGHT
TZOFFSETFROM:+0100
TZOFFSETTO:+0200
TZNAME:CEST
DTSTART:20250330T010000
END:DAYLIGHT
BEGIN:STANDARD
TZOFFSETFROM:+0200
TZOFFSETTO:+0100
TZNAME:CET
DTSTART:20251026T010000
END:STANDARD
BEGIN:DAYLIGHT
TZOFFSETFROM:+0100
TZOFFSETTO:+0200
TZNAME:CEST
DTSTART:20260329T010000
END:DAYLIGHT
BEGIN:STANDARD
TZOFFSETFROM:+0200
TZOFFSETTO:+0100
TZNAME:CET
DTSTART:20261025T010000
END:STANDARD
BEGIN:DAYLIGHT
TZOFFSETFROM:+0100
TZOFFSETTO:+0200
TZNAME:CEST
DTSTART:20270328T010000
END:DAYLIGHT
BEGIN:STANDARD
TZOFFSETFROM:+0200
TZOFFSETTO:+0100
TZNAME:CET
DTSTART:20271031T010000
END:STANDARD
END:VTIMEZONE
BEGIN:VEVENT
DTSTART;VALUE=DATE:20260424
DTEND;VALUE=DATE:20260425
DTSTAMP:20260420T103521
CREATED:20250821T083927Z
LAST-MODIFIED:20250821T083927Z
UID:9727-1776988800-1777075199@zs3pabianice.edu.pl
SUMMARY:Zakończenie roku w klasach maturalnych
DESCRIPTION:
URL:https://zs3pabianice.edu.pl/index.php/event/zakonczenie-roku-w-klasach-maturalnych-2/
END:VEVENT
BEGIN:VEVENT
DTSTART;VALUE=DATE:20260501
DTEND;VALUE=DATE:20260502
DTSTAMP:20260420T103521
CREATED:20250829T132405Z
LAST-MODIFIED:20250829T132543Z
UID:9769-1777593600-1777679999@zs3pabianice.edu.pl
SUMMARY:Święto Pracy
DESCRIPTION:Dzień wolny od zajęć
URL:https://zs3pabianice.edu.pl/index.php/event/swieto-pracy-2/
END:VEVENT
BEGIN:VEVENT
DTSTART;VALUE=DATE:20260502
DTEND;VALUE=DATE:20260503
DTSTAMP:20260420T103521
CREATED:20250829T132456Z
LAST-MODIFIED:20250829T132456Z
UID:9771-1777680000-1777766399@zs3pabianice.edu.pl
SUMMARY:Święto flagi
DESCRIPTION:Dzień wolny od zajęć
URL:https://zs3pabianice.edu.pl/index.php/event/swieto-flagi-2/
END:VEVENT
BEGIN:VEVENT
DTSTART;VALUE=DATE:20260503
DTEND;VALUE=DATE:20260504
DTSTAMP:20260420T103521
CREATED:20250829T132524Z
LAST-MODIFIED:20250829T132524Z
UID:9773-1777766400-1777852799@zs3pabianice.edu.pl
SUMMARY:Święto Konstytucji 3 Maja
DESCRIPTION:Dzień wolny od zajęć
URL:https://zs3pabianice.edu.pl/index.php/event/swieto-konstytucji-3-maja-2/
END:VEVENT
BEGIN:VEVENT
DTSTART;VALUE=DATE:20260504
DTEND;VALUE=DATE:20260505
DTSTAMP:20260420T103521
CREATED:20250829T131313Z
LAST-MODIFIED:20250829T131313Z
UID:9756-1777852800-1777939199@zs3pabianice.edu.pl
SUMMARY:Dodatkowy dzień wolny
DESCRIPTION:Egzamin maturalny z języka polskiego
URL:https://zs3pabianice.edu.pl/index.php/event/dodatkowy-dzien-wolny-16/
END:VEVENT
BEGIN:VEVENT
DTSTART;VALUE=DATE:20260505
DTEND;VALUE=DATE:20260506
DTSTAMP:20260420T103521
CREATED:20250829T131437Z
LAST-MODIFIED:20250829T131437Z
UID:9758-1777939200-1778025599@zs3pabianice.edu.pl
SUMMARY:Dodatkowy dzień wolny
DESCRIPTION:Egzamin maturalny z matematyki
URL:https://zs3pabianice.edu.pl/index.php/event/dodatkowy-dzien-wolny-17/
END:VEVENT
BEGIN:VEVENT
DTSTART;VALUE=DATE:20260506
DTEND;VALUE=DATE:20260507
DTSTAMP:20260420T103521
CREATED:20250829T131507Z
LAST-MODIFIED:20250829T131507Z
UID:9760-1778025600-1778111999@zs3pabianice.edu.pl
SUMMARY:Dodatkowy dzień wolny
DESCRIPTION:Egzamin maturalny z języka angielskiego
URL:https://zs3pabianice.edu.pl/index.php/event/dodatkowy-dzien-wolny-18/
END:VEVENT
BEGIN:VEVENT
DTSTART;TZID=Europe/Warsaw:20260507T080000
DTEND;TZID=Europe/Warsaw:20260507T170000
DTSTAMP:20260420T103521
CREATED:20250902T155824Z
LAST-MODIFIED:20250902T155824Z
UID:9786-1778140800-1778173200@zs3pabianice.edu.pl
SUMMARY:Dodatkowy dzień wolny
DESCRIPTION:Egzamin maturalny z języka angielskiego
URL:https://zs3pabianice.edu.pl/index.php/event/dodatkowy-dzien-wolny-19/
END:VEVENT
BEGIN:VEVENT
DTSTART;VALUE=DATE:20260603
DTEND;VALUE=DATE:20260604
DTSTAMP:20260420T103521
CREATED:20250829T131135Z
LAST-MODIFIED:20250829T131135Z
UID:9752-1780444800-1780531199@zs3pabianice.edu.pl
SUMMARY:Dodatkowy dzień wolny
DESCRIPTION:
URL:https://zs3pabianice.edu.pl/index.php/event/dodatkowy-dzien-wolny-14/
END:VEVENT
BEGIN:VEVENT
DTSTART;VALUE=DATE:20260605
DTEND;VALUE=DATE:20260606
DTSTAMP:20260420T103521
CREATED:20250829T131201Z
LAST-MODIFIED:20250829T131201Z
UID:9754-1780617600-1780703999@zs3pabianice.edu.pl
SUMMARY:Dodatkowy dzień wolny
DESCRIPTION:
URL:https://zs3pabianice.edu.pl/index.php/event/dodatkowy-dzien-wolny-15/
END:VEVENT
BEGIN:VEVENT
DTSTART;VALUE=DATE:20260626
DTEND;VALUE=DATE:20260627
DTSTAMP:20260420T103521
CREATED:20250821T083535Z
LAST-MODIFIED:20250821T083535Z
UID:9719-1782432000-1782518399@zs3pabianice.edu.pl
SUMMARY:Zakończenie roku szkolnego 2025/26
DESCRIPTION:
URL:https://zs3pabianice.edu.pl/index.php/event/zakonczenie-roku-szkolnego-2025-26/
END:VEVENT
BEGIN:VEVENT
DTSTART;VALUE=DATE:20260627
DTEND;VALUE=DATE:20260901
DTSTAMP:20260420T103521
CREATED:20250821T084010Z
LAST-MODIFIED:20250821T084010Z
UID:9729-1782518400-1788220799@zs3pabianice.edu.pl
SUMMARY:Wakacje
DESCRIPTION:
URL:https://zs3pabianice.edu.pl/index.php/event/wakacje/
END:VEVENT
BEGIN:VEVENT
DTSTART;VALUE=DATE:20260708
DTEND;VALUE=DATE:20260709
DTSTAMP:20260420T103521
CREATED:20250902T111702Z
LAST-MODIFIED:20250902T111702Z
UID:9778-1783468800-1783555199@zs3pabianice.edu.pl
SUMMARY:Ogłoszenie wyników egzaminu maturalnego
DESCRIPTION:
URL:https://zs3pabianice.edu.pl/index.php/event/ogloszenie-wynikow-egzaminu-maturalnego-2/
END:VEVENT
END:VCALENDAR